Workbook

Sheet Summary
A2: District/Area | B2: Members | C2: Clubs
A3: WA | B3: =SUM('9423'!F77) -> 1652 | C3: =SUM('9423'!D77) -> 75
A4: SA/NT/TL | B4: =SUM('SA-NT-TL'!F94) -> 1932 | C4: =SUM('SA-NT-TL'!B94) -> 93
A5: Vic/Tas | B5: =SUM('9815-9830'!F118) -> 2686 | C5: =SUM('9815-9830'!A118) -> 116
A6: Vic North/West | B6: =SUM('9800 9780 9790'!F165) -> 4078 | C6: =SUM('9800 9780 9790'!A165) -> 163
A7: Qld/PNG/Nauru/Solomons | B7: =SUM(QLD!F193) -> 3718 | C7: =SUM(QLD!B193) -> 191
A8: NSW North | B8: =SUM('9660-9685'!F168) -> 3538 | C8: =SUM('9660-9685'!A168) -> 166
A9: NSW South | B9: =SUM(' 9705-9675'!F118) -> 2621 | C9: =SUM(' 9705-9675'!A118) -> 117
A10: NZ North/Pacific Islands | B10: =SUM('NZ Nth & Islands'!F125) -> 2759 | C10: =SUM('NZ Nth & Islands'!B125) -> 123
A11: NZ South | B11: =SUM('NZ Sth'!F91) -> 2512 | C11: =SUM('NZ Sth'!B91) -> 89
A12: Total South Pacific Zone | B12: =SUM(B3:B11) -> 25496 | C12: =SUM(C3:C11) -> 1133

Sheet 9815-9830
A2: 9815 | B2: 18389 | C2: Bairnsdale | D2: Victoria | E2: Australia | F2: 6
A3: 9815 | B3: 61426 | C3: Bairnsdale Sunrise | D3: Victoria | E3: Australia | F3: 25
A4: 9815 | B4: 18351 | C4: Bayswater | D4: Victoria | E4: Australia | F4: 6
A5: 9815 | B5: 23217 | C5: Beaumaris | D5: Victoria | E5: Australia | F5: 33 | H5: Merged
A6: 9815 | B6: 18352 | C6: Belgrave - Ferntree Gully | D6: Victoria | E6: Australia | F6: 20 | H6: 9815 | I6: 18352 | J6: Belgrave | K6: Victoria | L6: Australia | M6: 11
A7: 9815 | B7: 18353 | C7: Bentleigh Moorabbin Central | D7: Victoria | E7: Australia | F7: 36 | H7: 9815 | I7: 18365 | J7: Fern Tree Gully | K7: Victoria | L7: Australia | M7: 11
A8: 9815 | B8: 18390 | C8: Berwick | D8: Victoria | E8: Australia | F8: 36
A9: 9815 | B9: 18354 | C9: Boronia | D9: Victoria | E9: Australia | F9: 48
A10: 9815 | B10: 18355 | C10: Box Hill Burwood | D10: Victoria | E10: Australia | F10: 30
A11: 9815 | B11: 27078 | C11: Box Hill Central | D11: Victoria | E11: Australia | F11: 25
A12: 9815 | B12: 21209 | C12: Bunyip-Garfield | D12: Victoria | E12: Australia | F12: 11
A13: 9815 | B13: 84333 | C13: Casey | D13: Victoria | E13: Australia | F13: 20
A14: 9815 | B14: 18357 | C14: Chelsea | D14: Victoria | E14: Australia | F14: 25
A15: 9815 | B15: 18391 | C15: Cranbourne | D15: Victoria | E15: Australia | F15: 26
A16: 9815 | B16: 18395 | C16: Dromana | D16: Victoria | E16: Australia | F16: 19
A17: 9815 | B17: 18396 | C17: Drouin | D17: Victoria | E17: Australia | F17: 40
A18: 9815 | B18: 87890 | C18: E-Club of Latitude 38 | D18: Victoria | E18: Australia | F18: 12
A19: 9815 | B19: 18364 | C19: Emerald & District | D19: Victoria | E19: Australia | F19: 44
... A105: 9830 | B105: 18469 | C105: Smithton | D105: Tasmania | E105: Australia | F105: 26
A106: 9830 | B106: 18470 | C106: Somerset | D106: Tasmania | E106: Australia | F106: 16 | J106: 1
A107: 9830 | B107: 22763 | C107: Sorell | D107: Tasmania | E107: Australia | F107: 29
A108: 9830 | B108: 18471 | C108: South Launceston | D108: Tasmania | E108: Australia | F108: 21
A109: 9830 | B109: 18472 | C109: Spring Bay | D109: Tasmania | E109: Australia | F109: 17
A110: 9830 | B110: 18448 | C110: Sullivan's Cove | D110: Tasmania | E110: Australia | F110: 10
A111: 9830 | B111: 53766 | C111: Tamar Sunrise (Launceston) | D111: Tasmania | E111: Australia | F111: 20
A112: 9830 | B112: 31633 | C112: Tasman Peninsula | D112: Tasmania | E112: Australia | F112: 20
A113: 9830 | B113: 18473 | C113: Ulverstone | D113: Tasmania | E113: Australia | F113: 23
A114: 9830 | B114: 23526 | C114: Ulverstone West | D114: Tasmania | E114: Australia | F114: 20
A115: 9830 | B115: 18433 | C115: West Tamar | D115: Tasmania | E115: Australia | F115: 25
A116: 9830 | B116: 18474 | C116: Westbury | D116: Tasmania | E116: Australia | F116: 20
A117: 9830 | B117: 18475 | C117: Wynyard | D117: Tasmania | E117: Australia | F117: 16
A118: =COUNT(A2:A117) -> 116 | F118: =SUM(F2:F117) -> 2686

Sheet 9800 9780 9790
A2: 9780 | B2: 85469 | C2: Alfredton | D2: Victoria | E2: Australia | F2: 20
A3: 9780 | B3: 18212 | C3: Ararat | D3: Victoria | E3: Australia | F3: 14
A4: 9780 | B4: 18213 | C4: Ballarat | D4: Victoria | E4: Australia | F4: 44 | H4: Closures
A5: 9780 | B5: 18214 | C5: Ballarat East | D5: Victoria | E5: Australia | F5: 19 | H5: 9780 | I5: 84934 | J5: Lara District | K5: Victoria | L5: Australia | M5: 10
A6: 9780 | B6: 18215 | C6: Ballarat South | D6: Victoria | E6: Australia | F6: 40
A7: 9780 | B7: 23678 | C7: Ballarat West | D7: Victoria | E7: Australia | F7: 30 | H7: Merged
A8: 9780 | B8: 18229 | C8: Barwon Geelong | D8: Victoria | E8: Australia | F8: 42 | H8: 9780 | I8: 18223 | J8: Colac | K8: Victoria | L8: Australia | M8: 20
A9: 9780 | B9: 24618 | C9: Beaufort | D9: Victoria | E9: Australia | F9: 14 | H9: 9780 | I9: 18224 | J9: Colac West | K9: Victoria | L9: Australia | M9: 15
A10: 9780 | B10: 18227 | C10: Bellarine North | D10: Victoria | E10: Australia | F10: 25
A11: 9780 | B11: 18216 | C11: Belmont | D11: Victoria | E11: Australia | F11: 20 | H11: 9780 | I11: 18229 | J11: Geelong East | K11: Victoria | L11: Australia | M11: 30
A12: 9780 | B12: 18219 | C12: Camperdown | D12: Victoria | E12: Australia | F12: 8 | H12: 9780 | I12: 50412 | J12: Bayside Geelong | K12: Victoria | L12: Australia | M12: 14
A13: 9780 | B13: 18220 | C13: Casterton | D13: Victoria | E13: Australia | F13: 12
A14: 9780 | B14: 18222 | C14: Cobden | D14: Victoria | E14: Australia | F14: 12 | H14: 9780 | I14: 18228 | J14: Greater Geelong | K14: Victoria | L14: Australia | M14: 41
A15: 9780 | B15: 18223 | C15: Colac Otway | D15: Victoria | E15: Australia | F15: 31 | H15: 9780 | I15: 27260 | J15: Geelong Central | K15: Victoria | L15: Australia | M15: 15
A16: 9780 | B16: 18230 | C16: Geelong West | D16: Victoria | E16: Australia | F16: 28
A17: 9780 | B17: 18228 | C17: Greater Geelong | D17: Victoria | E17: Australia | F17: 49
A18: 9780 | B18: 18231 | C18: Grovedale Waurn Ponds | D18: Victoria | E18: Australia | F18: 19
A19: 9780 | B19: 18233 | C19: Hamilton | D19: Victoria | E19: Australia | F19: 38
A20: 9780 | B20: 18234 | C20: Highton | D20: Victoria | E20: Australia | F20: 22
A21: 9780 | B21: 18236 | C21: Horsham | D21: Victoria | E21: Australia | F21: 20
A22: 9780 | B22: 18237 | C22: Horsham East | D22: Victoria | E22: Australia | F22: 22
A23: 9780 | B23: 28907 | C23: Kardinia | D23: Victoria | E23: Australia | F23: 47
A24: 9780 | B24: 18239 | C24: Kerang | D24: Victoria | E24: Australia | F24: 26
A25: 9780 | B25: 18240 | C25: Maryborough | D25: Victoria | E25: Australia | F25: 38
A26: 9780 | B26: 18246 | C26: Nhill | D26: Victoria | E26: Australia | F26: 13
A27: 9780 | B27: 21354 | C27: Ocean Grove | D27: Victoria | E27: Australia | F27: 54
... A135: 9800 | B135: 18323 | C135: Gisborne | D135: Victoria | E135: Australia | F135: 15
A136: 9800 | B136: (23)(10) | C136: Glenferrie | D136: Victoria | E136: Australia | F136: 46
A137: 9800 | B137: 18325 | C137: Hawthorn | D137: Victoria | E137: Australia | F137: 34
A138: 9800 | B138: 18326 | C138: Hoppers Crossing | D138: Victoria | E138: Australia | F138: 21
A139: 9800 | B139: 18327 | C139: Kangaroo Flat | D139: Victoria | E139: Australia | F139: 16
A140: 9800 | B140: 18328 | C140: Keilor | D140: Victoria | E140: Australia | F140: 17
A141: 9800 | B141: 21222 | C141: Keilor East | D141: Victoria | E141: Australia | F141: 34
A142: 9800 | B142: 18329 | C142: Kew | D142: Victoria | E142: Australia | F142: 37
A143: 9800 | B143: 18330 | C143: Kyneton | D143: Victoria | E143: Australia | F143: 27
A144: 9800 | B144: 18332 | C144: Malvern | D144: Victoria | E144: Australia | F144: 22
A145: 9800 | B145: 18333 | C145: Melbourne | D145: Victoria | E145: Australia | F145: 155
A146: 9800 | B146: 90572 | C146: Melbourne Passport | D146: Victoria | E146: Australia | F146: 10
A147: 9800 | B147: 226924 | C147: Melbourne-Manila | D147: Victoria | E147: Australia | F147: 5
A148: 9800 | B148: 28043 | C148: Melton Valley | D148: Victoria | E148: Australia | F148: 8
... A164: 9800 | B164: 63215 | C164: Yarraville | D164: Victoria | E164: Australia | F164: 5
A165: =COUNT(A2:A164) -> 163 | F165: =SUM(F2:F164) -> 4078

Sheet 9423
A2: 9423 | B2: 17569 | C2: Albany City | D2: WA | E2: Australia | F2: 6
A3: 9423 | B3: 17570 | C3: Albany Port | D3: WA | E3: Australia | F3: 20 | H3: Closures
A4: 9423 | B4: 17571 | C4: Applecross | D4: WA | E4: Australia | F4: 35 | H4: 9423 | I4: 88079 | J4: Elizabeth Quay | K4: WA | L4: Australia | M4: 15
A5: 9423 | B5: 17572 | C5: Armadale | D5: WA | E5: Australia | F5: 15 | H5: 9423 | I5: 17590 | J5: Esperance Bay | K5: WA | L5: Australia | M5: 11
A6: 9423 | B6: 17573 | C6: Ascot | D6: WA | E6: Australia | F6: 19 | H6: 9423 | I6: 17609 | J6: Mount Barker | K6: WA | L6: Australia | M6: 10
A7: 9423 | B7: 17574 | C7: Attadale | D7: WA | E7: Australia | F7: 30
A8: 9423 | B8: 88967 | C8: Baldivis | D8: WA | E8: Australia | F8: 8 | H8: Satellite
A9: 9423 | B9: 17536 | C9: Batavia Coast | D9: WA | E9: Australia | F9: 20 | H9: 9423 | I9: 223981 | J9: Satellite Club Perth, Elizabeth Quay | K9: WA | L9: Australia | M9: 8
A10: 9423 | B10: 17575 | C10: Belmont | D10: WA | E10: Australia | F10: 20
A11: 9423 | B11: 21067 | C11: Booragoon | D11: WA | E11: Australia | F11: 6
A12: 9423 | B12: 17577 | C12: Boulder | D12: WA | E12: Australia | F12: 24
A13: 9423 | B13: 17578 | C13: Bridgetown | D13: WA | E13: Australia | F13: 17
A14: 9423 | B14: 28695 | C14: Busselton-Geographe Bay | D14: WA | E14: Australia | F14: 33
A15: 9423 | B15: 51452 | C15: Byford & Districts | D15: WA | E15: Australia | F15: 11
A16: 9423 | B16: 17533 | C16: Cambridge | D16: WA | E16: Australia | F16: 20
A17: 9423 | B17: 17601 | C17: Canning River | D17: WA | E17: Australia | F17: 13
A18: 9423 | B18: 17584 | C18: Cockburn | D18: WA | E18: Australia | F18: 18
A19: 9423 | B19: 17585 | C19: Collie | D19: WA | E19: Australia | F19: 19
A20: 9423 | B20: 17586 | C20: Como | D20: WA | E20: Australia | F20: 36
A21: 9423 | B21: 17587 | C21: Corrigin | D21: WA | E21: Australia | F21: 9
... A76: 9423 | B76: 17565 | C76: Wongan Hills | D76: WA | E76: Australia | F76: 9
D77: =COUNT(F2:F76) -> 75 | F77: =SUM(F2:F76) -> 1652

Sheet SA-NT-TL
A1: 9510 | B1: 111111 | C1: Adelaide | D1: South Australia | E1: Australia | F1: 130
A2: 9510 | B2: 17626 | C2: Adelaide Central | D2: South Australia | E2: Australia | F2: 17 | H2: Closures
A3: 9510 | B3: 23866 | C3: Adelaide Light | D3: South Australia | E3: Australia | F3: 20 | H3: 9780 | I3: 18241 | J3: Millicent | K3: South Australia | L3: Australia | M3: 17
A4: 9510 | B4: 22091 | C4: Adelaide Parks | D4: South Australia | E4: Australia | F4: 18 | H4: 9510 | I4: 17663 | J4: Charles Sturt, Grange | K4: South Australia | L4: Australia | M4: 7
A5: 9510 | B5: 17627 | C5: Alice Springs | D5: Northern Territory | E5: Australia | F5: 22
A6: 9510 | B6: 22350 | C6: Alice Springs-Mbantua | D6: Northern Territory | E6: Australia | F6: 8
A7: 9510 | B7: 17628 | C7: Barossa Valley | D7: South Australia | E7: Australia | F7: 32
A8: 9510 | B8: 17665 | C8: Berri | D8: South Australia | E8: Australia | F8: 8
A9: 9510 | B9: 17666 | C9: Blackwood | D9: South Australia | E9: Australia | F9: 26
A10: 9510 | B10: 50267 | C10: Blakiston Nairne | D10: South Australia | E10: Australia | F10: 4
A11: 9510 | B11: 17668 | C11: Broken Hill | D11: New South Wales | E11: Australia | F11: 22
A12: 9510 | B12: 17671 | C12: Burnside | D12: South Australia | E12: Australia | F12: 23
A13: 9510 | B13: 17672 | C13: Campbelltown | D13: South Australia | E13: Australia | F13: 59
A14: 9510 | B14: 17629 | C14: Clare | D14: South Australia | E14: Australia | F14: 13
A15: 9510 | B15: 28598 | C15: Coromandel Valley | D15: South Australia | E15: Australia | F15: 15
A16: 9510 | B16: 17637 | C16: D9510 online | D16: South Australia | E16: Australia | F16: 7
... A81: 9560 | B81: 26713 | C81: Darwin Sunrise | D81: Northern Territory | E81: Australia | F81: 14
A82: 9560 | B82: 87458 | C82: Dili Lafaek | E82: Timor-Leste | F82: 8
A83: 9560 | B83: 59664 | C83: Dili, Timor Lorosa'e | E83: Timor-Leste | F83: 11
A84: 9560 | B84: 17743 | C84: E-Club of Outback Australia | D84: Northern Territory | E84: Australia | F84: 20
A85: 9560 | B85: 17732 | C85: Katherine | D85: Northern Territory | E85: Australia | F85: 6
A86: 9560 | B86: 17724 | C86: Litchfield/Palmerston | D86: Northern Territory | E86: Australia | F86: 11
A87: 9560 | B87: 24529 | C87: Nhulunbuy | D87: Northern Territory | E87: Australia | F87: 10
A88: 9560 | B88: 226526 | C88: Timor Maliana | E88: Timor-Leste | F88: 17
A89: 9780 | B89: 18218 | C89: Bordertown | D89: South Australia | E89: Australia | F89: 23
A90: 9780 | B90: 18243 | C90: Mount Gambier | D90: South Australia | E90: Australia | F90: 20
A91: 9780 | B91: 25306 | C91: Mount Gambier Lakes | D91: South Australia | E91: Australia | F91: 20
A92: 9780 | B92: 18244 | C92: Mount Gambier West | D92: South Australia | E92: Australia | F92: 23
A93: 9780 | B93: 18245 | C93: Naracoorte | D93: South Australia | E93: Australia | F93: 9
B94: =COUNT(B1:B93) -> 93 | F94: =SUM(F1:F93) -> 1932

Sheet  9705-9675
A1: 9675 | B1: 18057 | C1: Blacktown City | D1: New South Wales | E1: Australia | F1: 30 | H1: Blacktown City
A2: 9675 | B2: 18166 | C2: Bondi Junction | D2: New South Wales | E2: Australia | F2: 8 | H2: Snowy Monaro
A3: 9675 | B3: 18197 | C3: Botany Randwick | D3: New South Wales | E3: Australia | F3: 21 | H3: Hilltops
A4: 9675 | B4: 18059 | C4: Burwood | D4: New South Wales | E4: Australia | F4: 15 | H4: Burwood | J4: Closures
A5: 9675 | B5: 18169 | C5: Camden | D5: New South Wales | E5: Australia | F5: 40 | H5: Camden | J5: 9675 | K5: 18075 | L5: Mt. Druitt | M5: New South Wales | N5: Australia | O5: 9 | Q5: Blacktown City
A6: 9675 | B6: 18170 | C6: Campbelltown | D6: New South Wales | E6: Australia | F6: 9 | H6: Campbelltown
A7: 9675 | B7: 18171 | C7: Campsie | D7: New South Wales | E7: Australia | F7: 10 | H7: Canterbury-Bankstown
A8: 9675 | B8: 18172 | C8: Caringbah | D8: New South Wales | E8: Australia | F8: 29 | H8: Sutherland
A9: 9675 | B9: 18063 | C9: Concord | D9: New South Wales | E9: Australia | F9: 26 | H9: Canada Bay
A10: 9675 | B10: 18173 | C10: Corrimal | D10: New South Wales | E10: Australia | F10: 35 | H10: Wollongong
A11: 9675 | B11: 18175 | C11: Dapto | D11: New South Wales | E11: Australia | F11: 35 | H11: Wollongong
A12: 9675 | B12: 18176 | C12: Drummoyne | D12: New South Wales | E12: Australia | F12: 14 | H12: Canada Bay
A13: 9675 | B13: 18078 | C13: Environment and Habitat | D13: New South Wales | E13: Australia | F13: 8
A14: 9675 | B14: 29262 | C14: Fairfield City | D14: New South Wales | E14: Australia | F14: 16 | H14: Fairfield
A15: 9675 | B15: 18180 | C15: Fairy Meadow | D15: New South Wales | E15: Australia | F15: 10 | H15: Wollongong
A16: 9675 | B16: 18181 | C16: Five Dock | D16: New South Wales | E16: Australia | F16: 26 | H16: Canada Bay
A17: 9675 | C17: Global Business | D17: New South Wales | E17: Australia | F17: 18
A18: 9675 | B18: 18066 | C18: Granville | D18: New South Wales | E18: Australia | F18: 22 | H18: Cumberland
A19: 9675 | B19: 89647 | C19: Gregory Hills Next-Gen | D19: New South Wales | E19: Australia | F19: 20 | H19: Camden
A20: 9675 | B20: 18068 | C20: Holroyd | D20: New South Wales | E20: Australia | F20: 18 | H20: Cumberland
A21: 9675 | B21: 18182 | C21: Hurstville | D21: New South Wales | E21: Australia | F21: 11 | H21: Georges River
A22: 9675 | B22: 18183 | C22: Ingleburn | D22: New South Wales | E22: Australia | F22: 20 | H22: Campbelltown
A23: 9675 | B23: 18185 | C23: Kiama | D23: New South Wales | E23: Australia | F23: 33 | H23: Kiama
A24: 9675 | B24: 18072 | C24: Liverpool | D24: New South Wales | E24: Australia | F24: 7 | H24: Liverpool
A25: 9675 | B25: 18073 | C25: Liverpool West | D25: New South Wales | E25: Australia | F25: 26 | H25: Liverpool
A26: 9675 | B26: 30667 | C26: Macarthur Sunrise | D26: New South Wales | E26: Australia | F26: 16 | H26: Ryde
A27: 9675 | B27: 18190 | C27: Maroubra | D27: New South Wales | E27: Australia | F27: 10 | H27: Randwick
A28: 9675 | B28: 18191 | C28: Marrickville | D28: New South Wales | E28: Australia | F28: 11 | H28: Inner West
A29: 9675 | B29: 29091 | C29: Narellan | D29: New South Wales | E29: Australia | F29: 30 | H29: Camden
... A71: 9705 | B71: 21983 | C71: E-Club of Brindabella | D71: New South Wales | E71: Australia | F71: 11 | H71: Snowy Valley/Yass
A72: 9705 | B72: 18113 | C72: E-Club Serving Humanity | D72: New South Wales | E72: Australia | F72: 12
A73: 9705 | B73: 62613 | C73: Forbes Ipomoea | D73: New South Wales | E73: Australia | F73: 8 | H73: Forbes
A74: 9705 | B74: 62770 | C74: Gerringong Sunrise | D74: New South Wales | E74: Australia | F74: 26 | H74: Kiama
A75: 9705 | B75: 18135 | C75: Ginninderra | D75: New South Wales | E75: Australia | F75: 16 | H75: Yass Valley
A76: 9705 | B76: 18143 | C76: Goulburn | D76: New South Wales | E76: Australia | F76: 31 | H76: Goulburn-Mulwaee
A77: 9705 | B77: 18100 | C77: Griffith | D77: New South Wales | E77: Australia | F77: 15 | H77: Griffith
A78: 9705 | B78: 72966 | C78: Griffith Avanti | D78: New South Wales | E78: Australia | F78: 21 | H78: Griffith
A79: 9705 | B79: 18101 | C79: Griffith East | D79: New South Wales | E79: Australia | F79: 19 | H79: Griffith
A80: 9705 | B80: 80356 | C80: Gungahlin | D80: New South Wales | E80: Australia | F80: 21 | H80: ACT
A81: 9705 | B81: 26771 | C81: Hall | D81: New South Wales | E81: Australia | F81: 35 | H81: ACT
A82: 9705 | B82: 51581 | C82: Jerrabomberra | D82: New South Wales | E82: Australia | F82: 27 | H82: Queanbeyan-Palerang
A83: 9705 | B83: 18104 | C83: Junee | D83: New South Wales | E83: Australia | F83: 17 | H83: Junee
A84: 9705 | B84: 18105 | C84: Lake Cargelligo | D84: New South Wales | E84: Australia | F84: 9 | H84: Lachlan
... A117: 9705 | B117: 18123 | C117: Young | D117: New South Wales | E117: Australia | F117: 25 | H117: Hilltops
A118: =COUNT(A1:A117) -> 117 | F118: =SUM(F1:F117) -> 2621

Sheet 9660-9685
A2: 9640 | B2: 17876 | C2: Alstonville | D2: New South Wales | E2: Australia | F2: 12 | H2: Ballina
A3: 9640 | B3: 23967 | C3: Ballina-On-Richmond | D3: New South Wales | E3: Australia | F3: 89 | H3: Ballina
A4: 9640 | B4: 17882 | C4: Byron Bay | D4: New South Wales | E4: Australia | F4: 8 | H4: Byron | J4: merged
A5: 9640 | B5: 17883 | C5: Casino | D5: New South Wales | E5: Australia | F5: 15 | H5: Richmond Valley | J5: 9685 | K5: 29820 | L5: Nepean | M5: New South Wales | N5: Australia | O5: 17 | Q5: Penrith
A6: 9640 | B6: 222208 | C6: Evans Head | D6: New South Wales | E6: Australia | F6: 17 | H6: Richmond Valley | J6: 9685 | K6: 18085 | L6: Penrith Valley | M6: New South Wales | N6: Australia | O6: 8 | Q6: Penrith
A7: 9640 | B7: 17888 | C7: Goonellabah | D7: New South Wales | E7: Australia | F7: 19 | H7: Lismore
A8: 9640 | B8: 17889 | C8: Grafton | D8: New South Wales | E8: Australia | F8: 8 | H8: Clarence Valley | J8: Closures
A9: 9640 | B9: 26657 | C9: Grafton Midday | D9: New South Wales | E9: Australia | F9: 37 | H9: Clarence Valley | J9: 9660 | K9: 17982 | L9: Narromine | M9: New South Wales | N9: Australia | O9: 7 | Q9: Narromine
A10: 9640 | B10: 24613 | C10: Iluka Woombah | D10: New South Wales | E10: Australia | F10: 23 | H10: Clarence Valley | J10: 9685 | K10: 18036 | L10: Pennant Hills | M10: New South Wales | N10: Australia | O10: 6 | Q10: Hornsby
A11: 9640 | B11: 17892 | C11: Kyogle | D11: New South Wales | E11: Australia | F11: 8 | H11: Kyogle | J11: 9640 | K11: 222144 | L11: Lismore Networking | M11: New South Wales | N11: Australia | O11: 5 | Q11: Lismaore
A12: 9640 | B12: 17893 | C12: Lismore | D12: New South Wales | E12: Australia | F12: 7 | H12: Lismaore | J12: 9660 | K12: 17936 | L12: Moree | M12: New South Wales | N12: Australia | O12: 7 | Q12: Moree Plains
A13: 9640 | B13: 17894 | C13: Lismore West | D13: New South Wales | E13: Australia | F13: 14 | H13: Lismaore | J13: 9685 | K13: 18019 | L13: Greater Hills | M13: New South Wales | N13: Australia | O13: 9
A14: 9640 | B14: 17895 | C14: Maclean | D14: New South Wales | E14: Australia | F14: 26 | H14: Clarence Valley
A15: 9640 | B15: 53593 | C15: Mt. Warning AM (Murwillumbah) | D15: New South Wales | E15: Australia | F15: 30 | H15: Tweed
A16: 9640 | B16: 17898 | C16: Mullumbimby | D16: New South Wales | E16: Australia | F16: 14 | H16: Byron
A17: 9640 | B17: 17899 | C17: Murwillumbah | D17: New South Wales | E17: Australia | F17: 6 | H17: Tweed
A18: 9640 | B18: 17900 | C18: Murwillumbah Central | D18: New South Wales | E18: Australia | F18: 12 | H18: Tweed
A19: 9640 | B19: 31847 | C19: Summerland Sunrise | D19: New South Wales | E19: Australia | F19: 17 | H19: Lismore
A20: 9640 | B20: 17912 | C20: Tenterfield | D20: New South Wales | E20: Australia | F20: 18 | H20: Tenterfield
A21: 9640 | B21: 225171 | C21: Upper Richmond | D21: New South Wales | E21: Australia | F21: 12 | H21: Richmond Valley
A22: 9640 | B22: 21452 | C22: Yamba | D22: New South Wales | E22: Australia | F22: 7 | H22: Clarence Valley
A23: 9660 | B23: 17914 | C23: Armidale | D23: New South Wales | E23: Australia | F23: 71 | H23: Armidale
A24: 9660 | B24: 21562 | C24: Armidale Central | D24: New South Wales | E24: Australia | F24: 29 | H24: Armidale
A25: 9660 | B25: 17916 | C25: Barraba | D25: New South Wales | E25: Australia | F25: 14 | H25: Tamworth
... A76: 9660 | B76: 29498 | C76: Newcastle Sunrise | D76: New South Wales | E76: Australia | F76: 18 | H76: Newcastle
A77: 9660 | B77: 227886 | C77: North Lake Mac | D77: New South Wales | E77: Australia | F77: 18
A78: 9660 | B78: 26121 | C78: Paterson | D78: New South Wales | E78: Australia | F78: 14 | H78: Dungog
A79: 9660 | B79: 17940 | C79: Port Macquarie | D79: New South Wales | E79: Australia | F79: 14 | H79: Port Macquarie-Hastings
A80: 9660 | B80: 50942 | C80: Port Macquarie Sunrise | D80: New South Wales | E80: Australia | F80: 56 | H80: Port Macquarie-Hastings
A81: 9660 | B81: 17941 | C81: Port Macquarie West | D81: New South Wales | E81: Australia | F81: 35 | H81: Port Macquarie-Hastings
A82: 9660 | B82: 17942 | C82: Quirindi | D82: New South Wales | E82: Australia | F82: 10 | H82: Liverpool Plains
A83: 9660 | B83: 17989 | C83: Raymond Terrace | D83: New South Wales | E83: Australia | F83: 14 | H83: Port Stephens
A84: 9660 | B84: 17990 | C84: Rutherford-Telarah | D84: New South Wales | E84: Australia | F84: 21 | H84: Maitland
A85: 9660 | B85: 17991 | C85: Rylstone-Kandos | D85: New South Wales | E85: Australia | F85: 15 | H85: Mid-Western
A86: 9660 | B86: 65162 | C86: Salamander Bay | D86: New South Wales | E86: Australia | F86: 12 | H86: Port Stephens
A87: 9660 | B87: 17943 | C87: Sawtell | D87: New South Wales | E87: Australia | F87: 16 | H87: Coffs Harbour
A88: 9660 | B88: 17992 | C88: Scone | D88: New South Wales | E88: Australia | F88: 11 | H88: Upper Hunter
A89: 9660 | B89: 17993 | C89: Singleton | D89: New South Wales | E89: Australia | F89: 20 | H89: Singleton
... A142: 9685 | B142: 18033 | C142: Mosman | D142: New South Wales | E142: Australia | F142: 34 | H142: Mosman
A143: 9685 | B143: 18085 | C143: Nepean Valley Alliance | D143: New South Wales | E143: Australia | F143: 23
A144: 9685 | B144: 18040 | C144: North Ryde | D144: New South Wales | E144: Australia | F144: 16 | H144: Ryde
A145: 9685 | B145: 24094 | C145: North Sydney Sunrise | D145: New South Wales | E145: Australia | F145: 22 | H145: North Sydney
A146: 9685 | B146: 21474 | C146: Northbridge | D146: New South Wales | E146: Australia | F146: 46 | H146: Willoughby
A147: 9685 | B147: 55322 | C147: Norwest Sunrise, Bella Vista | D147: New South Wales | E147: Australia | F147: 21 | H147: The Hills
A148: 9685 | B148: 18079 | C148: Penrith | D148: New South Wales | E148: Australia | F148: 11 | H148: Penrith
A149: 9685 | B149: 18081 | C149: Richmond | D149: New South Wales | E149: Australia | F149: 29 | H149: Hawkesbury
A150: 9685 | B150: 18039 | C150: Ryde | D150: New South Wales | E150: Australia | F150: 25 | H150: Ryde
A151: 9685 | B151: 90922 | C151: Social Impact Network | D151: New South Wales | E151: Australia | F151: 19 | H151: Kempsey
A152: 9685 | B152: 22213 | C152: Springwood | D152: New South Wales | E152: Australia | F152: 26 | H152: Blue Mountains
A153: 9685 | B153: 18041 | C153: St. Ives | D153: New South Wales | E153: Australia | F153: 21 | H153: Ku-ring-gai
A154: 9685 | B154: 18044 | C154: Terrigal | D154: New South Wales | E154: Australia | F154: 15 | H154: Central Coast
A155: 9685 | B155: 18045 | C155: The Entrance | D155: New South Wales | E155: Australia | F155: 15 | H155: Central Coast
... A167: 9685 | B167: 18052 | C167: Woy Woy | D167: New South Wales | E167: Australia | F167: 12 | H167: Central Coast
A168: =COUNT(A2:A167) -> 166 | F168: =SUM(F2:F167) -> 3538
E177: 3

Sheet QLD
A2: 9560 | B2: 17711 | C2: Airlie Beach | D2: Queensland | E2: Australia | F2: 6
A3: 9560 | B3: 17712 | C3: Atherton | D3: Queensland | E3: Australia | F3: 17
A4: 9560 | B4: 17713 | C4: Ayr | D4: Queensland | E4: Australia | F4: 12 | I4: Closures
A5: 9560 | B5: 17751 | C5: Biloela | D5: Queensland | E5: Australia | F5: 20 | I5: 9620 | J5: 84463 | K5: Brisbane Taylor Bridge | L5: Queensland | M5: Australia | N5: 13
A6: 9560 | B6: 17753 | C6: Blackwater | D6: Queensland | E6: Australia | F6: 7 | I6: 9560 | J6: 21868 | K6: Port of Mackay | L6: Queensland | M6: Australia | N6: 15
A7: 9560 | B7: 17715 | C7: Bowen | D7: Queensland | E7: Australia | F7: 7 | I7: 9560 | J7: 25115 | K7: Bundaberg City Daybreak | L7: Queensland | M7: Australia | N7: 10
A8: 9560 | B8: 17754 | C8: Bundaberg | D8: Queensland | E8: Australia | F8: 16 | I8: 9640 | J8: 83622 | K8: Fassifern Valley | L8: Queensland | M8: Australia | N8: 4
A9: 9560 | B9: 17755 | C9: Bundaberg Central | D9: Queensland | E9: Australia | F9: 41 | I9: 9620 | J9: 31682 | K9: Port of Brisbane | L9: Queensland | M9: Australia | N9: 9
A10: 9560 | B10: 28042 | C10: Bundaberg Sunrise | D10: Queensland | E10: Australia | F10: 58
A11: 9560 | B11: 17716 | C11: Cairns | D11: Queensland | E11: Australia | F11: 20 | I11: 9620 | J11: 17862 | K11: Brisbane Inner West (Tennyson) | L11: Queensland | M11: Australia | N11: 26
A12: 9560 | B12: 90895 | C12: Cairns Northern Beaches | D12: Queensland | E12: Australia | F12: 15
A13: 9560 | B13: 28201 | C13: Cairns Sunrise | D13: Queensland | E13: Australia | F13: 36 | I13: 9620 | J13: 17849 | K13: Goodna | L13: Queensland | M13: Australia | N13: 10
A14: 9560 | B14: 17717 | C14: Cairns Trinity | D14: Queensland | E14: Australia | F14: 16
A15: 9560 | B15: 17719 | C15: Cairns West | D15: Queensland | E15: Australia | F15: 10 | I15: 9640 | J15: 225485 | K15: Scenic Rim Sunrise | L15: Queensland | M15: Australia | N15: 12
A16: 9560 | B16: 86384 | C16: Calliope | D16: Queensland | E16: Australia | F16: 15
A17: 9560 | B17: 87920 | C17: Capricorn Coast | D17: Queensland | E17: Australia | F17: 11
A18: 9560 | B18: 17720 | C18: Charters Towers | D18: Queensland | E18: Australia | F18: 9
A19: 9560 | B19: 17757 | C19: Childers | D19: Queensland | E19: Australia | F19: 13
A20: 9560 | B20: 89872 | C20: D9560 Passport | D20: Queensland | E20: Australia | F20: 9
A21: 9560 | B21: 87483 | C21: Discovery Coast | D21: Queensland | E21: Australia | F21: 12
A22: 9560 | B22: 17735 | C22: Douglas FNQ | D22: Queensland | E22: Australia | F22: 10
A23: 9560 | B23: 17759 | C23: Emerald | D23: Queensland | E23: Australia | F23: 36
A24: 9560 | B24: 63641 | C24: Emerald Sunrise | D24: Queensland | E24: Australia | F24: 6
A25: 9560 | B25: 226674 | C25: Empowering Women and Girls | D25: Queensland | E25: Australia | F25: 10
A26: 9560 | B26: 83759 | C26: Gayndah | D26: Queensland | E26: Australia | F26: 7
A27: 9560 | B27: 17761 | C27: Gladstone | D27: Queensland | E27: Australia | F27: 24
... A76: 9620 | B76: 17842 | C76: Booval | D76: Queensland | E76: Australia | F76: 3
A77: 9620 | B77: 17829 | C77: Boroko | E77: Papua New Guinea | F77: 27
A78: 9620 | B78: 25210 | C78: Bribie Island | D78: Queensland | E78: Australia | F78: 20
A79: 9620 | B79: 17787 | C79: Brisbane | D79: Queensland | E79: Australia | F79: 44
A80: 9620 | B80: 83554 | C80: Brisbane Airport | D80: Queensland | E80: Australia | F80: 19
A81: 9620 | B81: 25069 | C81: Brisbane Centenary | D81: Queensland | E81: Australia | F81: 15
A82: 9620 | B82: 29520 | C82: Brisbane High-Rise | D82: Queensland | E82: Australia | F82: 38
A83: 9620 | B83: 88202 | C83: Brisbane International | D83: Queensland | E83: Australia | F83: 33
A84: 9620 | B84: 17818 | C84: Brisbane Northside | D84: Queensland | E84: Australia | F84: 27
A85: 9620 | B85: 17873 | C85: Brisbane South East | D85: Queensland | E85: Australia | F85: 14
A86: 9620 | B86: 225626 | C86: Briz Pride | D86: Queensland | E86: Australia | F86: 7
A87: 9620 | B87: 62378 | C87: Brookfield | D87: Queensland | E87: Australia | F87: 8
A88: 9620 | B88: 90892 | C88: Browns Plains | D88: Queensland | E88: Australia | F88: 4
A89: 9620 | B89: 30022 | C89: Buderim | D89: Queensland | E89: Australia | F89: 12
... A104: 9620 | B104: 224647 | C104: Global Water Safety & Drowning Prevention | D104: Queensland | E104: Australia | F104: 14
A105: 9620 | B105: 29443 | C105: Goroka | E105: Papua New Guinea | F105: 2
A106: 9620 | B106: 85671 | C106: Greater Springfield | D106: Queensland | E106: Australia | F106: 12
A107: 9620 | B107: 17798 | C107: Gympie | D107: Queensland | E107: Australia | F107: 32
A108: 9620 | B108: 17800 | C108: Hamilton, Brisbane | D108: Queensland | E108: Australia | F108: 29
A109: 9620 | B109: 24481 | C109: Honiara | E109: Solomon Islands | F109: 25
A110: 9620 | B110: 17850 | C110: Ipswich | D110: Queensland | E110: Australia | F110: 17
A111: 9620 | B111: 17851 | C111: Ipswich City | D111: Queensland | E111: Australia | F111: 72
A112: 9620 | B112: 17854 | C112: Jindalee | D112: Queensland | E112: Australia | F112: 43
A113: 9620 | B113: 17803 | C113: Kenmore | D113: Queensland | E113: Australia | F113: 39
A114: 9620 | B114: 17804 | C114: Kingaroy | D114: Queensland | E114: Australia | F114: 15
A115: 9620 | B115: 17806 | C115: Kippa Ring-North Lakes | D115: Queensland | E115: Australia | F115: 12
A116: 9620 | B116: 51618 | C116: Kokopo | D116: Queensland | E116: Australia | F116: 9
A117: 9620 | B117: 17833 | C117: Lae Huon Gulf | E117: Papua New Guinea | F117: 16
A118: 9620 | B118: 17848 | C118: Lockyer Valley | D118: Queensland | E118: Australia | F118: 7
A119: 9620 | B119: 17855 | C119: Logan | D119: Queensland | E119: Australia | F119: 7
A120: 9620 | B120: 17856 | C120: Loganholme | D120: Queensland | E120: Australia | F120: 11
A121: 9620 | B121: 17834 | C121: Madang | E121: Papua New Guinea | F121: 9
A122: 9620 | B122: 17807 | C122: Maleny | D122: Queensland | E122: Australia | F122: 29
A123: 9620 | B123: 17858 | C123: Mitchell | D123: Queensland | E123: Australia | F123: 3
A124: 9620 | B124: 17809 | C124: Mitchelton | D124: Queensland | E124: Australia | F124: 15
A125: 9620 | B125: 17810 | C125: Mooloolaba | D125: Queensland | E125: Australia | F125: 45
A126: 9620 | B126: 17835 | C126: Mount Hagen | D126: Queensland | E126: Australia | F126: 5
A127: 9620 | B127: 17859 | C127: Mt. Gravatt | D127: Queensland | E127: Australia | F127: 13
A128: 9620 | B128: 17811 | C128: Murgon | D128: Queensland | E128: Australia | F128: 7
A129: 9620 | B129: 17812 | C129: Nambour | D129: Queensland | E129: Australia | F129: 9
A130: 9620 | B130: 83455 | C130: Nauru | E130: Nauru | F130: 4
A131: 9620 | B131: 84862 | C131: New Farm | D131: Queensland | E131: Australia | F131: 23
A132: 9620 | B132: 17816 | C132: Noosa | D132: Queensland | E132: Australia | F132: 16
A133: 9620 | B133: 52106 | C133: Noosa Daybreak | D133: Queensland | E133: Australia | F133: 26
A134: 9620 | B134: 90497 | C134: Ormeau-Pimpama | D134: Queensland | E134: Australia | F134: 22
A135: 9620 | B135: 23256 | C135: Paddington | D135: Queensland | E135: Australia | F135: 30
A136: 9620 | B136: 17819 | C136: Pine Rivers | D136: Queensland | E136: Australia | F136: 17
A137: 9620 | B137: 17836 | C137: Port Moresby | E137: Papua New Guinea | F137: 29
A138: 9620 | B138: 17821 | C138: Redcliffe Sunrise | D138: Queensland | E138: Australia | F138: 13
A139: 9620 | B139: 69883 | C139: Redlands Bayside | D139: Queensland | E139: Australia | F139: 14
A140: 9620 | B140: 89279 | C140: Rochedale-South East Technology Park | D140: Queensland | E140: Australia | F140: 2
A141: 9620 | B141: 17863 | C141: Roma | D141: Queensland | E141: Australia | F141: 15
A142: 9620 | B142: 17864 | C142: Salisbury | D142: Queensland | E142: Australia | F142: 11
A143: 9620 | B143: 17822 | C143: Samford Valley | D143: Queensland | E143: Australia | F143: 20
A144: 9620 | B144: 17865 | C144: South Brisbane | D144: Queensland | E144: Australia | F144: 4
A145: 9620 | B145: 17903 | C145: St. George | D145: Queensland | E145: Australia | F145: 9
A146: 9620 | B146: 29721 | C146: Sumner Park | D146: Queensland | E146: Australia | F146: 11
A147: 9620 | B147: 224412 | C147: Sunnybank | D147: Queensland | E147: Australia | F147: 21
A148: 9620 | B148: 24707 | C148: Sunnybank Hills | D148: Queensland | E148: Australia | F148: 19
A149: 9620 | B149: 111 | C149: Tennyson | D149: Queensland | E149: Australia | F149: 37
... A192: 9640 | B192: 54548 | C192: Warwick Sunrise | D192: Queensland | E192: Australia | F192: 11
B193: =COUNT(B2:B192) -> 191 | F193: =SUM(F2:F192) -> 3718

Sheet NZ Nth & Islands
A2: 9910 | B2: 50686 | C2: Albany | E2: New Zealand | F2: 17 | H2: Closures
A3: 9910 | B3: 69878 | C3: Auckland Korean | E3: New Zealand | F3: 25 | H3: 9910 | I3: 22126 | J3: Browns Bay | L3: New Zealand | M3: 27
A4: 9910 | B4: 18480 | C4: Bay of Islands | E4: New Zealand | F4: 25 | H4: 9920 | I4: 61814 | J4: Manurewa-Takanini | L4: New Zealand | M4: 5
A5: 9910 | B5: 18481 | C5: Birkenhead | E5: New Zealand | F5: 15 | H5: 9930 | I5: 18576 | J5: Taumarunui | L5: New Zealand | M5: 10
A6: 9910 | B6: 18482 | C6: Dargaville | E6: New Zealand | F6: 18 | H6: 9910 | I6: 31108 | J6: Westhaven | L6: New Zealand | M6: 14
A7: 9910 | B7: 18483 | C7: Devonport | E7: New Zealand | F7: 31
A8: 9910 | B8: 18486 | C8: Henderson | E8: New Zealand | F8: 39
A9: 9910 | B9: 18493 | C9: Hillsborough-Lynfield-Mount Roskill | E9: New Zealand | F9: 13
A10: 9910 | B10: 18487 | C10: Kaikohe | E10: New Zealand | F10: 8 | H10: 9910 | I10: 223982 | J10: Satellite Club of North Shore Westhaven | L10: New Zealand | M10: 8
A11: 9910 | B11: 18495 | C11: Kaipatiki | E11: New Zealand | F11: 17
A12: 9910 | B12: 18489 | C12: Kerikeri | E12: New Zealand | F12: 35
A13: 9910 | B13: 224992 | C13: Mangawhai | E13: New Zealand | F13: 8
A14: 9910 | B14: 18496 | C14: Maungakiekie | E14: New Zealand | F14: 34
A15: 9910 | B15: 18490 | C15: Maungaturoto and Districts | E15: New Zealand | F15: 8
A16: 9910 | B16: 18509 | C16: Norfolk Island | D16: Norfolk Island | E16: Australia | F16: 22
A17: 9910 | B17: 26705 | C17: North Harbour | E17: New Zealand | F17: 23
A18: 9910 | B18: 18499 | C18: North Shore | E18: New Zealand | F18: 71
A19: 9910 | B19: 18477 | C19: Noumea | E19: New Caledonia | F19: 41
A20: 9910 | B20: 18478 | C20: Noumea Ducos Boulari | E20: New Caledonia | F20: 11
A21: 9910 | B21: 30439 | C21: Noumea Ouen Toro | E21: New Caledonia | F21: 18
A22: 9910 | B22: 18498 | C22: Orewa-Millwater | E22: New Zealand | F22: 16
A23: 9910 | B23: 18510 | C23: Port Vila | E23: Vanuatu | F23: 26
A24: 9910 | B24: 18511 | C24: Santo | E24: Vanuatu | F24: 16
A25: 9910 | B25: 30517 | C25: Waipapa | E25: New Zealand | F25: 15
A26: 9910 | B26: 18501 | C26: Waitakere | E26: New Zealand | F26: 24
A27: 9910 | B27: 18503 | C27: Warkworth District | E27: New Zealand | F27: 6
A28: 9910 | B28: 25448 | C28: Whangaparaoa | E28: New Zealand | F28: 14
... A69: 9920 | B69: 31742 | C69: Savusavu | E69: Fiji | F69: 13
A70: 9920 | B70: 228052 | C70: Sigatoka | F70: 17
A71: 9920 | B71: 31804 | C71: Somerville | E71: New Zealand | F71: 11
A72: 9920 | B72: 26722 | C72: St Johns Ellerslie | E72: New Zealand | F72: 39
A73: 9920 | B73: 18519 | C73: Suva | E73: Fiji | F73: 32
A74: 9920 | B74: 227136 | C74: Suva Central | E74: Fiji | F74: 30
A75: 9920 | B75: 18520 | C75: Suva East | E75: Fiji | F75: 19
A76: 9920 | B76: 52060 | C76: Suva Peninsula | E76: Fiji | F76: 25
A77: 9920 | B77: 70940 | C77: Taravao-Tahiti Iti | E77: French Polynesia | F77: 6
A78: 9920 | B78: 57167 | C78: Taveuni Island, Cakaudrove | E78: Fiji | F78: 9
A79: 9920 | B79: 18541 | C79: Tuakau | E79: New Zealand | F79: 10
A80: 9920 | B80: 50685 | C80: Waiheke Island | E80: New Zealand | F80: 32
A81: 9920 | B81: 18542 | C81: Waiuku | E81: New Zealand | F81: 10
A82: 9930 | B82: 18564 | C82: Ahuriri Napier | E82: New Zealand | F82: 30
... A124: 9930 | B124: 18594 | C124: Whakatane, Bay of Plenty | E124: New Zealand | F124: 32
B125: =COUNT(B2:B124) -> 123 | F125: =SUM(F2:F124) -> 2759

Sheet NZ Sth
A2: 9940 | B2: 18598 | C2: Carterton | E2: New Zealand | F2: 20
A3: 9940 | B3: 18601 | C3: Eastern Hutt | E3: New Zealand | F3: 32 | H3: Merged
A4: 9940 | B4: 18603 | C4: Feilding Oroua | E4: New Zealand | F4: 29 | H4: 9940 | I4: 18596 | J4: Awapuni | L4: New Zealand | M4: 9
A5: 9940 | B5: 18609 | C5: Hutt City | E5: New Zealand | F5: 42 | H5: 9940 | I5: 18626 | J5: Palmerston North | L5: New Zealand | M5: 24
A6: 9940 | B6: 18632 | C6: Hutt River Valley | E6: New Zealand | F6: 13
A7: 9940 | B7: 29442 | C7: Hutt Valley | E7: New Zealand | F7: 23 | H7: 9999 | I7: 18672 | J7: Nelson | L7: New Zealand | M7: 30
A8: 9940 | B8: 18610 | C8: Inglewood | E8: New Zealand | F8: 12 | H8: 9999 | I8: 18674 | J8: Nelson West | L8: New Zealand | M8: 23
A9: 9940 | B9: 18612 | C9: Kapiti | E9: New Zealand | F9: 62
A10: 9940 | B10: 18614 | C10: Levin | E10: New Zealand | F10: 19
A11: 9940 | B11: 18624 | C11: Mana Tangata | E11: New Zealand | F11: 27
A12: 9940 | B12: 18617 | C12: Marton | E12: New Zealand | F12: 36
A13: 9940 | B13: 18618 | C13: Masterton | E13: New Zealand | F13: 13
A14: 9940 | B14: 18619 | C14: Masterton South | E14: New Zealand | F14: 46 | H14: 9940 | I14: 223909 | J14: Satellite Club Mana Tangata Breezeway On-line | L14: New Zealand | M14: 8
A15: 9940 | B15: 18620 | C15: Milson | E15: New Zealand | F15: 34 | H15: 9940 | I15: 223924 | J15: Satellite Club of Wellington-Literacy for Life | L15: New Zealand | M15: 15
A16: 9940 | B16: 21871 | C16: Mount Victoria | E16: New Zealand | F16: 16
A17: 9940 | B17: 18622 | C17: New Plymouth North | E17: New Zealand | F17: 30
A18: 9940 | B18: 18621 | C18: Ngamotu, Taranaki | E18: New Zealand | F18: 9
A19: 9940 | B19: 18626 | C19: Palmerston North | E19: New Zealand | F19: 33
A20: 9940 | B20: 18637 | C20: Papaioea, Palmerston North | E20: New Zealand | F20: 15
A21: 9940 | B21: 18628 | C21: Petone | E21: New Zealand | F21: 16
A22: 9940 | B22: 18629 | C22: Plimmerton | E22: New Zealand | F22: 33
A23: 9940 | B23: 26493 | C23: Port Nicholson | E23: New Zealand | F23: 53
A24: 9940 | B24: 18606 | C24: South Wairarapa | E24: New Zealand | F24: 41
A25: 9940 | B25: 18633 | C25: Stratford | E25: New Zealand | F25: 7
A26: 9940 | B26: 18636 | C26: Tawa | E26: New Zealand | F26: 23
A27: 9940 | B27: 18638 | C27: Upper Hutt | E27: New Zealand | F27: 21
... A90: 9999 | B90: 18711 | C90: Winton | E90: New Zealand | F90: 29
B91: =COUNT(B2:B90) -> 89 | F91: =SUM(F2:F90) -> 2512
